BEGIN:VCALENDAR
VERSION:2.0
PRODID:-//Workman Nydegger - ECPv4.6.16//NONSGML v1.0//EN
CALSCALE:GREGORIAN
METHOD:PUBLISH
X-WR-CALNAME:Workman Nydegger
X-ORIGINAL-URL:https://www.wnlaw.com
X-WR-CALDESC:Events for Workman Nydegger
BEGIN:VEVENT
DTSTART;TZID=UTC-6:20180717T100000
DTEND;TZID=UTC-6:20180717T110000
DTSTAMP:20180626T044844
CREATED:20180531T173523Z
LAST-MODIFIED:20180620T171538Z
UID:5307-1531821600-1531825200@www.wnlaw.com
SUMMARY:Sterling Fillmore to Speak at The Knowledge Group’s "Alice Storm Aftermath: Cost Effective & Winning Strategies" LIVE Webcast
DESCRIPTION: \nThe Knowledge Group/The Knowledge Congress Live Webcast Series\, the leading producer of regulatory focused webcasts\, has announced that Workman Nydegger Shareholder\, Sterling Fillmore will speak at The Knowledge Group’s webcast entitled: “Alice Storm Aftermath: Cost Effective & Winning Strategies LIVE Webcast.”  This event is scheduled for Tuesday\, July 17\, 2018\, from 10:00 am to 11:00 am (MDT). \nFor further details or to register using Workman Nydegger’s complimentary code\, please visit: \nhttps://www.theknowledgegroup.org/checkout/?utm_source=FREE-Passes&utm_medium=email&utm_campaign=Alice+Storm+Aftermath%3A+Cost+Effective+&Winning_Strategies \nAbout Sterling Fillmore \nSterling D. Fillmore counsels clients in all aspects of intellectual property. He works with companies of all sizes\, ranging from global multinational corporations to small startups and single inventors. He also serves universities\, both in and outside of Utah\, in procuring patents in both the U.S. and abroad. Mr. Fillmore has extensive experience in all matters of patent prosecution\, including the preparation and filing of patent applications in the U.S. and abroad\, conducting examiner interviews and post-examination proceedings before the Patent Trial and Appeal Board. \nPrior to law school\, he studied physics and spent nearly four years working on research involving ferritin protein nanobatteries and indium-doped semiconductor nanocrystals. Mr. Fillmore also counsels clients in patent infringement and validity opinions\, licensing of intellectual property rights\, freedom to operate\, and due diligence of IP portfolios during acquisitions and mergers. \nEvent Synopsis: \nAfter the Supreme Court’s decision in Alice v. CLS Bank\, the number of patent eligibility cases from district courts skyrocketed and are now reshaping the patent eligibility case law. With the rise of significant legal and regulatory developments surrounding the patent landscape under the Trump’s administration\, this trend is expected to continue for the years to come.\nIn this LIVE Webcast\, a panel of thought leaders and professionals brought together by The Knowledge Group will provide an in-depth discussion of the fundamentals as well as recent developments post-Alice. Speakers will identify the implications of these developments to the current patent-eligibility landscape. They will also provide best practices and strategies to avoid risks and common pitfalls. \nKey topics include:\n• The Patent Eligibility Landscape: Post-Alice\n• Significant Court Rulings\n• Common Risks and Legal Pitfalls in Determining Eligibility\n• Best Practices and Practical Tips\n• What Lies Ahead \nAbout The Knowledge Group/The Knowledge Congress Live Webcast Series \nThe Knowledge Group was established with the mission to produce unbiased\, objective\, and educational live webinars that examine industry trends and regulatory changes from a variety of different perspectives. The goal is to deliver a unique multilevel analysis of an important issue affecting business in a highly focused format. To contact or register for an event\, please visit: http://theknowledgegroup.org/ \n  \n  \n
URL:https://www.wnlaw.com/event/sterling-fillmore-to-speak-at-the-knowledge-groups-alice-storm-aftermath-cost-effective-winning-strategies-live-webcast/
END:VEVENT
END:VCALENDAR